BEGIN:VCALENDAR
VERSION:2.0
PRODID:-//The Kitch&#039;inn Hospitality Group - ECPv6.15.20//NONSGML v1.0//EN
CALSCALE:GREGORIAN
METHOD:PUBLISH
X-ORIGINAL-URL:https://kitchinn.com
X-WR-CALDESC:Events for The Kitch&#039;inn Hospitality Group
REFRESH-INTERVAL;VALUE=DURATION:PT1H
X-Robots-Tag:noindex
X-PUBLISHED-TTL:PT1H
BEGIN:VTIMEZONE
TZID:UTC
BEGIN:STANDARD
TZOFFSETFROM:+0000
TZOFFSETTO:+0000
TZNAME:UTC
DTSTART:20240101T000000
END:STANDARD
END:VTIMEZONE
BEGIN:VEVENT
DTSTART;TZID=UTC:20250201T190000
DTEND;TZID=UTC:20250201T210000
DTSTAMP:20260420T103936
CREATED:20250103T155755Z
LAST-MODIFIED:20250103T155853Z
UID:10000788-1738436400-1738443600@kitchinn.com
SUMMARY:Live - Danny Banfield
DESCRIPTION:
URL:https://kitchinn.com/event/live-danny-banfield-2/2025-02-01/
LOCATION:NS
CATEGORIES:betty's at the kitch
END:VEVENT
BEGIN:VEVENT
DTSTART;TZID=UTC:20250203T170000
DTEND;TZID=UTC:20250203T210000
DTSTAMP:20260420T103936
CREATED:20231027T172954Z
LAST-MODIFIED:20250516T160109Z
UID:10000531-1738602000-1738616400@kitchinn.com
SUMMARY:East Coast Curry Night
DESCRIPTION:Join Gavy and Denesh as they chef up the best Indian dishes every Monday night! It will change up each week but their Butter Chicken (YUM!) will be a staple!
URL:https://kitchinn.com/event/east-coasters-curry-night/2025-02-03/
LOCATION:Betty’s at the Kitch\, 319 Main Street\, Mahone Bay\, NS\, Canada
CATEGORIES:betty's at the kitch
ATTACH;FMTTYPE=image/jpeg:https://kitchinn.com/wp-content/uploads/2023/10/IMG_3659.jpeg
END:VEVENT
BEGIN:VEVENT
DTSTART;TZID=UTC:20250205T160000
DTEND;TZID=UTC:20250205T230000
DTSTAMP:20260420T103936
CREATED:20231027T163346Z
LAST-MODIFIED:20251211T225459Z
UID:10005690-1738771200-1738796400@kitchinn.com
SUMMARY:Wino Wednesday
DESCRIPTION:$7 Glasses of House Wines and $10 off any Bottle \nPinot Grigio – Chardonnay – Cabernet Sauvignon
URL:https://kitchinn.com/event/wino-wednesdays/2025-02-05/
LOCATION:Betty’s at the Kitch\, 319 Main Street\, Mahone Bay\, NS\, Canada
CATEGORIES:betty's at the kitch
ATTACH;FMTTYPE=image/png:https://kitchinn.com/wp-content/uploads/2025/01/Screenshot-2025-01-12-154829.png
END:VEVENT
BEGIN:VEVENT
DTSTART;TZID=UTC:20250206T183000
DTEND;TZID=UTC:20250206T203000
DTSTAMP:20260420T103936
CREATED:20231027T172557Z
LAST-MODIFIED:20250527T203603Z
UID:10000015-1738866600-1738873800@kitchinn.com
SUMMARY:3 Course Thursday + Ceilidh
DESCRIPTION:$25
URL:https://kitchinn.com/event/3-course-thursday-ceilidh/2025-02-06/
LOCATION:Betty’s at the Kitch\, 319 Main Street\, Mahone Bay\, NS\, Canada
CATEGORIES:betty's at the kitch
ATTACH;FMTTYPE=image/jpeg:https://kitchinn.com/wp-content/uploads/2024/11/lobster-supper-6.jpg
END:VEVENT
BEGIN:VEVENT
DTSTART;TZID=UTC:20250208T190000
DTEND;TZID=UTC:20250208T210000
DTSTAMP:20260420T103936
CREATED:20250103T155428Z
LAST-MODIFIED:20250207T210539Z
UID:10001203-1739041200-1739048400@kitchinn.com
SUMMARY:Live - Shawn Hebb
DESCRIPTION:
URL:https://kitchinn.com/event/live-shawn-hebb/
LOCATION:NS
CATEGORIES:betty's at the kitch
END:VEVENT
BEGIN:VEVENT
DTSTART;TZID=UTC:20250210T170000
DTEND;TZID=UTC:20250210T210000
DTSTAMP:20260420T103936
CREATED:20231027T172954Z
LAST-MODIFIED:20250516T160109Z
UID:10000532-1739206800-1739221200@kitchinn.com
SUMMARY:East Coast Curry Night
DESCRIPTION:Join Gavy and Denesh as they chef up the best Indian dishes every Monday night! It will change up each week but their Butter Chicken (YUM!) will be a staple!
URL:https://kitchinn.com/event/east-coasters-curry-night/2025-02-10/
LOCATION:Betty’s at the Kitch\, 319 Main Street\, Mahone Bay\, NS\, Canada
CATEGORIES:betty's at the kitch
ATTACH;FMTTYPE=image/jpeg:https://kitchinn.com/wp-content/uploads/2023/10/IMG_3659.jpeg
END:VEVENT
BEGIN:VEVENT
DTSTART;TZID=UTC:20250212T160000
DTEND;TZID=UTC:20250212T230000
DTSTAMP:20260420T103936
CREATED:20231027T163346Z
LAST-MODIFIED:20251211T225459Z
UID:10005691-1739376000-1739401200@kitchinn.com
SUMMARY:Wino Wednesday
DESCRIPTION:$7 Glasses of House Wines and $10 off any Bottle \nPinot Grigio – Chardonnay – Cabernet Sauvignon
URL:https://kitchinn.com/event/wino-wednesdays/2025-02-12/
LOCATION:Betty’s at the Kitch\, 319 Main Street\, Mahone Bay\, NS\, Canada
CATEGORIES:betty's at the kitch
ATTACH;FMTTYPE=image/png:https://kitchinn.com/wp-content/uploads/2025/01/Screenshot-2025-01-12-154829.png
END:VEVENT
BEGIN:VEVENT
DTSTART;TZID=UTC:20250213T183000
DTEND;TZID=UTC:20250213T203000
DTSTAMP:20260420T103936
CREATED:20231027T172557Z
LAST-MODIFIED:20250527T203603Z
UID:10000016-1739471400-1739478600@kitchinn.com
SUMMARY:3 Course Thursday + Ceilidh
DESCRIPTION:$25
URL:https://kitchinn.com/event/3-course-thursday-ceilidh/2025-02-13/
LOCATION:Betty’s at the Kitch\, 319 Main Street\, Mahone Bay\, NS\, Canada
CATEGORIES:betty's at the kitch
ATTACH;FMTTYPE=image/jpeg:https://kitchinn.com/wp-content/uploads/2024/11/lobster-supper-6.jpg
END:VEVENT
BEGIN:VEVENT
DTSTART;TZID=UTC:20250215T190000
DTEND;TZID=UTC:20250215T210000
DTSTAMP:20260420T103936
CREATED:20250103T161345Z
LAST-MODIFIED:20250103T161345Z
UID:10000848-1739646000-1739653200@kitchinn.com
SUMMARY:Live - Ken MacPherson
DESCRIPTION:
URL:https://kitchinn.com/event/live-ken-macpherson/
LOCATION:NS
CATEGORIES:betty's at the kitch
END:VEVENT
BEGIN:VEVENT
DTSTART;TZID=UTC:20250217T170000
DTEND;TZID=UTC:20250217T210000
DTSTAMP:20260420T103936
CREATED:20231027T172954Z
LAST-MODIFIED:20250516T160109Z
UID:10000533-1739811600-1739826000@kitchinn.com
SUMMARY:East Coast Curry Night
DESCRIPTION:Join Gavy and Denesh as they chef up the best Indian dishes every Monday night! It will change up each week but their Butter Chicken (YUM!) will be a staple!
URL:https://kitchinn.com/event/east-coasters-curry-night/2025-02-17/
LOCATION:Betty’s at the Kitch\, 319 Main Street\, Mahone Bay\, NS\, Canada
CATEGORIES:betty's at the kitch
ATTACH;FMTTYPE=image/jpeg:https://kitchinn.com/wp-content/uploads/2023/10/IMG_3659.jpeg
END:VEVENT
BEGIN:VEVENT
DTSTART;TZID=UTC:20250219T160000
DTEND;TZID=UTC:20250219T230000
DTSTAMP:20260420T103936
CREATED:20231027T163346Z
LAST-MODIFIED:20251211T225459Z
UID:10005692-1739980800-1740006000@kitchinn.com
SUMMARY:Wino Wednesday
DESCRIPTION:$7 Glasses of House Wines and $10 off any Bottle \nPinot Grigio – Chardonnay – Cabernet Sauvignon
URL:https://kitchinn.com/event/wino-wednesdays/2025-02-19/
LOCATION:Betty’s at the Kitch\, 319 Main Street\, Mahone Bay\, NS\, Canada
CATEGORIES:betty's at the kitch
ATTACH;FMTTYPE=image/png:https://kitchinn.com/wp-content/uploads/2025/01/Screenshot-2025-01-12-154829.png
END:VEVENT
BEGIN:VEVENT
DTSTART;TZID=UTC:20250220T183000
DTEND;TZID=UTC:20250220T203000
DTSTAMP:20260420T103936
CREATED:20231027T172557Z
LAST-MODIFIED:20250527T203603Z
UID:10000017-1740076200-1740083400@kitchinn.com
SUMMARY:3 Course Thursday + Ceilidh
DESCRIPTION:$25
URL:https://kitchinn.com/event/3-course-thursday-ceilidh/2025-02-20/
LOCATION:Betty’s at the Kitch\, 319 Main Street\, Mahone Bay\, NS\, Canada
CATEGORIES:betty's at the kitch
ATTACH;FMTTYPE=image/jpeg:https://kitchinn.com/wp-content/uploads/2024/11/lobster-supper-6.jpg
END:VEVENT
BEGIN:VEVENT
DTSTART;TZID=UTC:20250222T190000
DTEND;TZID=UTC:20250222T210000
DTSTAMP:20260420T103936
CREATED:20250103T161423Z
LAST-MODIFIED:20250103T161423Z
UID:10000849-1740250800-1740258000@kitchinn.com
SUMMARY:Live - Jamie Junger + Washboard Dave
DESCRIPTION:
URL:https://kitchinn.com/event/live-jamie-junger-washboard-dave-2/
LOCATION:NS
CATEGORIES:betty's at the kitch
END:VEVENT
BEGIN:VEVENT
DTSTART;TZID=UTC:20250224T170000
DTEND;TZID=UTC:20250224T210000
DTSTAMP:20260420T103936
CREATED:20231027T172954Z
LAST-MODIFIED:20250516T160109Z
UID:10000534-1740416400-1740430800@kitchinn.com
SUMMARY:East Coast Curry Night
DESCRIPTION:Join Gavy and Denesh as they chef up the best Indian dishes every Monday night! It will change up each week but their Butter Chicken (YUM!) will be a staple!
URL:https://kitchinn.com/event/east-coasters-curry-night/2025-02-24/
LOCATION:Betty’s at the Kitch\, 319 Main Street\, Mahone Bay\, NS\, Canada
CATEGORIES:betty's at the kitch
ATTACH;FMTTYPE=image/jpeg:https://kitchinn.com/wp-content/uploads/2023/10/IMG_3659.jpeg
END:VEVENT
BEGIN:VEVENT
DTSTART;TZID=UTC:20250226T160000
DTEND;TZID=UTC:20250226T230000
DTSTAMP:20260420T103936
CREATED:20231027T163346Z
LAST-MODIFIED:20251211T225459Z
UID:10005693-1740585600-1740610800@kitchinn.com
SUMMARY:Wino Wednesday
DESCRIPTION:$7 Glasses of House Wines and $10 off any Bottle \nPinot Grigio – Chardonnay – Cabernet Sauvignon
URL:https://kitchinn.com/event/wino-wednesdays/2025-02-26/
LOCATION:Betty’s at the Kitch\, 319 Main Street\, Mahone Bay\, NS\, Canada
CATEGORIES:betty's at the kitch
ATTACH;FMTTYPE=image/png:https://kitchinn.com/wp-content/uploads/2025/01/Screenshot-2025-01-12-154829.png
END:VEVENT
BEGIN:VEVENT
DTSTART;TZID=UTC:20250227T183000
DTEND;TZID=UTC:20250227T203000
DTSTAMP:20260420T103936
CREATED:20231027T172557Z
LAST-MODIFIED:20250527T203603Z
UID:10000018-1740681000-1740688200@kitchinn.com
SUMMARY:3 Course Thursday + Ceilidh
DESCRIPTION:$25
URL:https://kitchinn.com/event/3-course-thursday-ceilidh/2025-02-27/
LOCATION:Betty’s at the Kitch\, 319 Main Street\, Mahone Bay\, NS\, Canada
CATEGORIES:betty's at the kitch
ATTACH;FMTTYPE=image/jpeg:https://kitchinn.com/wp-content/uploads/2024/11/lobster-supper-6.jpg
END:VEVENT
END:VCALENDAR