BEGIN:VCALENDAR
VERSION:2.0
PRODID:-//The Kitch&#039;inn Hospitality Group - ECPv6.15.20//NONSGML v1.0//EN
CALSCALE:GREGORIAN
METHOD:PUBLISH
X-ORIGINAL-URL:https://kitchinn.com
X-WR-CALDESC:Events for The Kitch&#039;inn Hospitality Group
REFRESH-INTERVAL;VALUE=DURATION:PT1H
X-Robots-Tag:noindex
X-PUBLISHED-TTL:PT1H
BEGIN:VTIMEZONE
TZID:UTC
BEGIN:STANDARD
TZOFFSETFROM:+0000
TZOFFSETTO:+0000
TZNAME:UTC
DTSTART:20290101T000000
END:STANDARD
END:VTIMEZONE
BEGIN:VEVENT
DTSTART;TZID=UTC:20300803T190000
DTEND;TZID=UTC:20300803T210000
DTSTAMP:20260421T153531
CREATED:20260103T214957Z
LAST-MODIFIED:20260222T174609Z
UID:10006269-1912014000-1912021200@kitchinn.com
SUMMARY:LIVE @ BETTY'S - Thompson + Middleton
DESCRIPTION:
URL:https://kitchinn.com/event/live-bettys-thompson-middleton-2/2030-08-03/
LOCATION:Betty’s at the Kitch\, 319 Main Street\, Mahone Bay\, NS\, Canada
CATEGORIES:betty's at the kitch
ATTACH;FMTTYPE=image/jpeg:https://kitchinn.com/wp-content/uploads/2026/01/music-1.jpg
END:VEVENT
BEGIN:VEVENT
DTSTART;TZID=UTC:20300807T160000
DTEND;TZID=UTC:20300807T230000
DTSTAMP:20260421T153531
CREATED:20251211T224848Z
LAST-MODIFIED:20260223T155430Z
UID:10005659-1912348800-1912374000@kitchinn.com
SUMMARY:BETTY'S - It's Wino Wednesday!
DESCRIPTION:$7 Glasses of House Wines and $10 off any Bottle \nPinot Grigio – Chardonnay – Cabernet Sauvignon
URL:https://kitchinn.com/event/wino-wednesdays-2/2030-08-07/
LOCATION:Betty’s at the Kitch\, 319 Main Street\, Mahone Bay\, NS\, Canada
CATEGORIES:betty's at the kitch
ATTACH;FMTTYPE=image/png:https://kitchinn.com/wp-content/uploads/2025/01/Screenshot-2025-01-12-154829.png
END:VEVENT
BEGIN:VEVENT
DTSTART;TZID=UTC:20300810T190000
DTEND;TZID=UTC:20300810T210000
DTSTAMP:20260421T153531
CREATED:20251211T233015Z
LAST-MODIFIED:20260101T214653Z
UID:10005851-1912618800-1912626000@kitchinn.com
SUMMARY:LIVE @ BETTY'S - Shawn Hebb
DESCRIPTION:
URL:https://kitchinn.com/event/live-shawn-hebb-3-2-2-2/2030-08-10/
LOCATION:NS
CATEGORIES:betty's at the kitch
ATTACH;FMTTYPE=image/png:https://kitchinn.com/wp-content/uploads/2025/09/No-Cover.zip-2.png
END:VEVENT
BEGIN:VEVENT
DTSTART;TZID=UTC:20300814T160000
DTEND;TZID=UTC:20300814T230000
DTSTAMP:20260421T153531
CREATED:20251211T224848Z
LAST-MODIFIED:20260223T155430Z
UID:10005660-1912953600-1912978800@kitchinn.com
SUMMARY:BETTY'S - It's Wino Wednesday!
DESCRIPTION:$7 Glasses of House Wines and $10 off any Bottle \nPinot Grigio – Chardonnay – Cabernet Sauvignon
URL:https://kitchinn.com/event/wino-wednesdays-2/2030-08-14/
LOCATION:Betty’s at the Kitch\, 319 Main Street\, Mahone Bay\, NS\, Canada
CATEGORIES:betty's at the kitch
ATTACH;FMTTYPE=image/png:https://kitchinn.com/wp-content/uploads/2025/01/Screenshot-2025-01-12-154829.png
END:VEVENT
BEGIN:VEVENT
DTSTART;TZID=UTC:20300821T160000
DTEND;TZID=UTC:20300821T230000
DTSTAMP:20260421T153531
CREATED:20251211T224848Z
LAST-MODIFIED:20260223T155430Z
UID:10005661-1913558400-1913583600@kitchinn.com
SUMMARY:BETTY'S - It's Wino Wednesday!
DESCRIPTION:$7 Glasses of House Wines and $10 off any Bottle \nPinot Grigio – Chardonnay – Cabernet Sauvignon
URL:https://kitchinn.com/event/wino-wednesdays-2/2030-08-21/
LOCATION:Betty’s at the Kitch\, 319 Main Street\, Mahone Bay\, NS\, Canada
CATEGORIES:betty's at the kitch
ATTACH;FMTTYPE=image/png:https://kitchinn.com/wp-content/uploads/2025/01/Screenshot-2025-01-12-154829.png
END:VEVENT
BEGIN:VEVENT
DTSTART;TZID=UTC:20300828T160000
DTEND;TZID=UTC:20300828T230000
DTSTAMP:20260421T153531
CREATED:20251211T224848Z
LAST-MODIFIED:20260223T155430Z
UID:10005662-1914163200-1914188400@kitchinn.com
SUMMARY:BETTY'S - It's Wino Wednesday!
DESCRIPTION:$7 Glasses of House Wines and $10 off any Bottle \nPinot Grigio – Chardonnay – Cabernet Sauvignon
URL:https://kitchinn.com/event/wino-wednesdays-2/2030-08-28/
LOCATION:Betty’s at the Kitch\, 319 Main Street\, Mahone Bay\, NS\, Canada
CATEGORIES:betty's at the kitch
ATTACH;FMTTYPE=image/png:https://kitchinn.com/wp-content/uploads/2025/01/Screenshot-2025-01-12-154829.png
END:VEVENT
END:VCALENDAR