BEGIN:VCALENDAR
VERSION:2.0
PRODID:-//The Kitch&#039;inn Hospitality Group - ECPv6.15.20//NONSGML v1.0//EN
CALSCALE:GREGORIAN
METHOD:PUBLISH
X-ORIGINAL-URL:https://kitchinn.com
X-WR-CALDESC:Events for The Kitch&#039;inn Hospitality Group
REFRESH-INTERVAL;VALUE=DURATION:PT1H
X-Robots-Tag:noindex
X-PUBLISHED-TTL:PT1H
BEGIN:VTIMEZONE
TZID:UTC
BEGIN:STANDARD
TZOFFSETFROM:+0000
TZOFFSETTO:+0000
TZNAME:UTC
DTSTART:20290101T000000
END:STANDARD
END:VTIMEZONE
BEGIN:VEVENT
DTSTART;TZID=UTC:20301002T160000
DTEND;TZID=UTC:20301002T230000
DTSTAMP:20260421T190351
CREATED:20251211T224848Z
LAST-MODIFIED:20260223T155430Z
UID:10005667-1917187200-1917212400@kitchinn.com
SUMMARY:BETTY'S - It's Wino Wednesday!
DESCRIPTION:$7 Glasses of House Wines and $10 off any Bottle \nPinot Grigio – Chardonnay – Cabernet Sauvignon
URL:https://kitchinn.com/event/wino-wednesdays-2/2030-10-02/
LOCATION:Betty’s at the Kitch\, 319 Main Street\, Mahone Bay\, NS\, Canada
CATEGORIES:betty's at the kitch
ATTACH;FMTTYPE=image/png:https://kitchinn.com/wp-content/uploads/2025/01/Screenshot-2025-01-12-154829.png
END:VEVENT
BEGIN:VEVENT
DTSTART;TZID=UTC:20301005T190000
DTEND;TZID=UTC:20301005T210000
DTSTAMP:20260421T190351
CREATED:20260103T214957Z
LAST-MODIFIED:20260222T174609Z
UID:10006271-1917457200-1917464400@kitchinn.com
SUMMARY:LIVE @ BETTY'S - Thompson + Middleton
DESCRIPTION:
URL:https://kitchinn.com/event/live-bettys-thompson-middleton-2/2030-10-05/
LOCATION:Betty’s at the Kitch\, 319 Main Street\, Mahone Bay\, NS\, Canada
CATEGORIES:betty's at the kitch
ATTACH;FMTTYPE=image/jpeg:https://kitchinn.com/wp-content/uploads/2026/01/music-1.jpg
END:VEVENT
BEGIN:VEVENT
DTSTART;TZID=UTC:20301009T160000
DTEND;TZID=UTC:20301009T230000
DTSTAMP:20260421T190351
CREATED:20251211T224848Z
LAST-MODIFIED:20260223T155430Z
UID:10005668-1917792000-1917817200@kitchinn.com
SUMMARY:BETTY'S - It's Wino Wednesday!
DESCRIPTION:$7 Glasses of House Wines and $10 off any Bottle \nPinot Grigio – Chardonnay – Cabernet Sauvignon
URL:https://kitchinn.com/event/wino-wednesdays-2/2030-10-09/
LOCATION:Betty’s at the Kitch\, 319 Main Street\, Mahone Bay\, NS\, Canada
CATEGORIES:betty's at the kitch
ATTACH;FMTTYPE=image/png:https://kitchinn.com/wp-content/uploads/2025/01/Screenshot-2025-01-12-154829.png
END:VEVENT
BEGIN:VEVENT
DTSTART;TZID=UTC:20301012T190000
DTEND;TZID=UTC:20301012T210000
DTSTAMP:20260421T190351
CREATED:20251211T233015Z
LAST-MODIFIED:20260101T214653Z
UID:10005853-1918062000-1918069200@kitchinn.com
SUMMARY:LIVE @ BETTY'S - Shawn Hebb
DESCRIPTION:
URL:https://kitchinn.com/event/live-shawn-hebb-3-2-2-2/2030-10-12/
LOCATION:NS
CATEGORIES:betty's at the kitch
ATTACH;FMTTYPE=image/png:https://kitchinn.com/wp-content/uploads/2025/09/No-Cover.zip-2.png
END:VEVENT
BEGIN:VEVENT
DTSTART;TZID=UTC:20301016T160000
DTEND;TZID=UTC:20301016T230000
DTSTAMP:20260421T190351
CREATED:20251211T224848Z
LAST-MODIFIED:20260223T155430Z
UID:10005669-1918396800-1918422000@kitchinn.com
SUMMARY:BETTY'S - It's Wino Wednesday!
DESCRIPTION:$7 Glasses of House Wines and $10 off any Bottle \nPinot Grigio – Chardonnay – Cabernet Sauvignon
URL:https://kitchinn.com/event/wino-wednesdays-2/2030-10-16/
LOCATION:Betty’s at the Kitch\, 319 Main Street\, Mahone Bay\, NS\, Canada
CATEGORIES:betty's at the kitch
ATTACH;FMTTYPE=image/png:https://kitchinn.com/wp-content/uploads/2025/01/Screenshot-2025-01-12-154829.png
END:VEVENT
BEGIN:VEVENT
DTSTART;TZID=UTC:20301023T160000
DTEND;TZID=UTC:20301023T230000
DTSTAMP:20260421T190351
CREATED:20251211T224848Z
LAST-MODIFIED:20260223T155430Z
UID:10005670-1919001600-1919026800@kitchinn.com
SUMMARY:BETTY'S - It's Wino Wednesday!
DESCRIPTION:$7 Glasses of House Wines and $10 off any Bottle \nPinot Grigio – Chardonnay – Cabernet Sauvignon
URL:https://kitchinn.com/event/wino-wednesdays-2/2030-10-23/
LOCATION:Betty’s at the Kitch\, 319 Main Street\, Mahone Bay\, NS\, Canada
CATEGORIES:betty's at the kitch
ATTACH;FMTTYPE=image/png:https://kitchinn.com/wp-content/uploads/2025/01/Screenshot-2025-01-12-154829.png
END:VEVENT
BEGIN:VEVENT
DTSTART;TZID=UTC:20301030T160000
DTEND;TZID=UTC:20301030T230000
DTSTAMP:20260421T190351
CREATED:20251211T224848Z
LAST-MODIFIED:20260223T155430Z
UID:10005671-1919606400-1919631600@kitchinn.com
SUMMARY:BETTY'S - It's Wino Wednesday!
DESCRIPTION:$7 Glasses of House Wines and $10 off any Bottle \nPinot Grigio – Chardonnay – Cabernet Sauvignon
URL:https://kitchinn.com/event/wino-wednesdays-2/2030-10-30/
LOCATION:Betty’s at the Kitch\, 319 Main Street\, Mahone Bay\, NS\, Canada
CATEGORIES:betty's at the kitch
ATTACH;FMTTYPE=image/png:https://kitchinn.com/wp-content/uploads/2025/01/Screenshot-2025-01-12-154829.png
END:VEVENT
END:VCALENDAR