BEGIN:VCALENDAR
VERSION:2.0
PRODID:-//The Kitch&#039;inn Hospitality Group - ECPv6.15.20//NONSGML v1.0//EN
CALSCALE:GREGORIAN
METHOD:PUBLISH
X-WR-CALNAME:The Kitch&#039;inn Hospitality Group
X-ORIGINAL-URL:https://kitchinn.com
X-WR-CALDESC:Events for The Kitch&#039;inn Hospitality Group
REFRESH-INTERVAL;VALUE=DURATION:PT1H
X-Robots-Tag:noindex
X-PUBLISHED-TTL:PT1H
BEGIN:VTIMEZONE
TZID:UTC
BEGIN:STANDARD
TZOFFSETFROM:+0000
TZOFFSETTO:+0000
TZNAME:UTC
DTSTART:20240101T000000
END:STANDARD
END:VTIMEZONE
BEGIN:VEVENT
DTSTART;TZID=UTC:20250120T170000
DTEND;TZID=UTC:20250120T210000
DTSTAMP:20260422T090434
CREATED:20231027T172954Z
LAST-MODIFIED:20250516T160109Z
UID:10000529-1737392400-1737406800@kitchinn.com
SUMMARY:East Coast Curry Night
DESCRIPTION:Join Gavy and Denesh as they chef up the best Indian dishes every Monday night! It will change up each week but their Butter Chicken (YUM!) will be a staple!
URL:https://kitchinn.com/event/east-coasters-curry-night/2025-01-20/
LOCATION:Betty’s at the Kitch\, 319 Main Street\, Mahone Bay\, NS\, Canada
CATEGORIES:betty's at the kitch
ATTACH;FMTTYPE=image/jpeg:https://kitchinn.com/wp-content/uploads/2023/10/IMG_3659.jpeg
END:VEVENT
BEGIN:VEVENT
DTSTART;TZID=UTC:20250122T160000
DTEND;TZID=UTC:20250122T230000
DTSTAMP:20260422T090434
CREATED:20231027T163346Z
LAST-MODIFIED:20251211T225459Z
UID:10005688-1737561600-1737586800@kitchinn.com
SUMMARY:Wino Wednesday
DESCRIPTION:$7 Glasses of House Wines and $10 off any Bottle \nPinot Grigio – Chardonnay – Cabernet Sauvignon
URL:https://kitchinn.com/event/wino-wednesdays/2025-01-22/
LOCATION:Betty’s at the Kitch\, 319 Main Street\, Mahone Bay\, NS\, Canada
CATEGORIES:betty's at the kitch
ATTACH;FMTTYPE=image/png:https://kitchinn.com/wp-content/uploads/2025/01/Screenshot-2025-01-12-154829.png
END:VEVENT
BEGIN:VEVENT
DTSTART;TZID=UTC:20250123T183000
DTEND;TZID=UTC:20250123T203000
DTSTAMP:20260422T090434
CREATED:20231027T172557Z
LAST-MODIFIED:20250527T203603Z
UID:10000013-1737657000-1737664200@kitchinn.com
SUMMARY:3 Course Thursday + Ceilidh
DESCRIPTION:$25
URL:https://kitchinn.com/event/3-course-thursday-ceilidh/2025-01-23/
LOCATION:Betty’s at the Kitch\, 319 Main Street\, Mahone Bay\, NS\, Canada
CATEGORIES:betty's at the kitch
ATTACH;FMTTYPE=image/jpeg:https://kitchinn.com/wp-content/uploads/2024/11/lobster-supper-6.jpg
END:VEVENT
BEGIN:VEVENT
DTSTART;TZID=UTC:20250125T173000
DTEND;TZID=UTC:20250125T213000
DTSTAMP:20260422T090434
CREATED:20250103T155618Z
LAST-MODIFIED:20250121T153821Z
UID:10000787-1737826200-1737840600@kitchinn.com
SUMMARY:Robbie Burns Supper
DESCRIPTION:Join us on JANUARY 25th for our annual BURNS NIGHT – A celebration of Scottish Food\, Drink\, Music and Poetry! Raise a glass with your Betties and CELEBRATE SCOTLAND’S BARD – It IS Robbie’s birthday after all! Aye! Dinnae miss ‘et – Here’s what we’re getting’ upty \n Whiskey Tasting at 5:30\n Four Course Traditional Dinner – Smoked Salmon + Crispy Oatcakes\, Cullen Skink\, Haggis w/ Neeps + Tatties and Cranachan Trifle 6:30\n Poetry celebrating Robbie Burns’ life and work (Bring a bonnie piece to read aloud) 6:30-9:30\n  Live Music with Scottish Fiddler Eilidh Campbell & Band\, and not one but TWO bagpipers! 6:30-9:30 \n“Time and Tide Wait For No Betty.” Limited seating – By Reservation only – $65 per person\, optional whiskey flight of 4 +$35.\nEmail office@kitchinn.com to book your table!\nAccomodations available at Kitch’inn and Mahone Bay B+B.
URL:https://kitchinn.com/event/robbie-burns-supper/
LOCATION:NS
CATEGORIES:betty's at the kitch
ATTACH;FMTTYPE=image/jpeg:https://kitchinn.com/wp-content/uploads/2025/01/IMG_2226.jpg
END:VEVENT
END:VCALENDAR